BEGIN:VCALENDAR
VERSION:2.0
PRODID:-//eventon.com NONSGML v1.0//EN
CALSCALE:GREGORIAN
METHOD:PUBLISH
BEGIN:VEVENT
UID:69eb821b82684
DTSTAMP:20260424T144547Z
DTSTART:20200521T120000Z
DTEND:20200521T180000Z
LOCATION:Forsters Einkehr Güsseldorf 1\,  91174 Spalt-Güsseldorf
SUMMARY:Fränkischer Bierwandertag (Vatertag)
DESCRIPTION:Bei schlechtem Wetter in der Scheune\,  ansonsten im Biergarten
 \nhttps://andy-musik.de/events/fraemloscher-bierwandertag-vatertag/
URL:https://andy-musik.de/events/fraemloscher-bierwandertag-vatertag/
END:VEVENT
END:VCALENDAR